BEGIN:VCALENDAR
VERSION:2.0
PRODID:-//Artisan Catering - ECPv6.9.0//NONSGML v1.0//EN
CALSCALE:GREGORIAN
METHOD:PUBLISH
X-ORIGINAL-URL:https://artisancatering.gg
X-WR-CALDESC:Events for Artisan Catering
REFRESH-INTERVAL;VALUE=DURATION:PT1H
X-Robots-Tag:noindex
X-PUBLISHED-TTL:PT1H
BEGIN:VTIMEZONE
TZID:UTC
BEGIN:STANDARD
TZOFFSETFROM:+0000
TZOFFSETTO:+0000
TZNAME:UTC
DTSTART:20240101T000000
END:STANDARD
END:VTIMEZONE
BEGIN:VEVENT
DTSTART;TZID=UTC:20240914T210000
DTEND;TZID=UTC:20240914T230000
DTSTAMP:20260423T194548
CREATED:20240517T103004Z
LAST-MODIFIED:20240517T103004Z
UID:2222-1726347600-1726354800@artisancatering.gg
SUMMARY:Live Music - Tantale
DESCRIPTION:
URL:https://artisancatering.gg/event/live-music-tantale/
END:VEVENT
BEGIN:VEVENT
DTSTART;TZID=UTC:20240816T210000
DTEND;TZID=UTC:20240816T230000
DTSTAMP:20260423T194548
CREATED:20240517T102644Z
LAST-MODIFIED:20240517T102644Z
UID:2220-1723842000-1723849200@artisancatering.gg
SUMMARY:Live Music - Callum & Nick (Of The Nightmares)
DESCRIPTION:
URL:https://artisancatering.gg/event/live-music-callum-nick-of-the-nightmares/
END:VEVENT
BEGIN:VEVENT
DTSTART;TZID=UTC:20240803T210000
DTEND;TZID=UTC:20240803T230000
DTSTAMP:20260423T194548
CREATED:20240517T102549Z
LAST-MODIFIED:20240517T102549Z
UID:2218-1722718800-1722726000@artisancatering.gg
SUMMARY:Live Music - Andy Newman
DESCRIPTION:
URL:https://artisancatering.gg/event/live-music-andy-newman/
END:VEVENT
BEGIN:VEVENT
DTSTART;TZID=UTC:20240720T210000
DTEND;TZID=UTC:20240720T230000
DTSTAMP:20260423T194548
CREATED:20240517T102441Z
LAST-MODIFIED:20240517T102441Z
UID:2216-1721509200-1721516400@artisancatering.gg
SUMMARY:Live Music - Kiya Ashton
DESCRIPTION:
URL:https://artisancatering.gg/event/live-music-kiya-ashton/
END:VEVENT
BEGIN:VEVENT
DTSTART;TZID=UTC:20240709T210000
DTEND;TZID=UTC:20240709T230000
DTSTAMP:20260423T194548
CREATED:20240709T113202Z
LAST-MODIFIED:20240709T113202Z
UID:2281-1720558800-1720566000@artisancatering.gg
SUMMARY:Live Music - Faolân Gill
DESCRIPTION:
URL:https://artisancatering.gg/event/live-music-faolan-gill-2/
LOCATION:The Venture Inn
END:VEVENT
BEGIN:VEVENT
DTSTART;TZID=UTC:20240709T210000
DTEND;TZID=UTC:20240709T230000
DTSTAMP:20260423T194548
CREATED:20240709T113106Z
LAST-MODIFIED:20240709T113106Z
UID:2279-1720558800-1720566000@artisancatering.gg
SUMMARY:Live Music - Faolân Gill
DESCRIPTION:
URL:https://artisancatering.gg/event/live-music-faolan-gill/
LOCATION:The Venture Inn
END:VEVENT
BEGIN:VEVENT
DTSTART;TZID=UTC:20240706T210000
DTEND;TZID=UTC:20240706T230000
DTSTAMP:20260423T194548
CREATED:20240517T102154Z
LAST-MODIFIED:20240517T102154Z
UID:2214-1720299600-1720306800@artisancatering.gg
SUMMARY:Live Music - The Darts
DESCRIPTION:
URL:https://artisancatering.gg/event/live-music-the-darts/
END:VEVENT
BEGIN:VEVENT
DTSTART;TZID=UTC:20240622T210000
DTEND;TZID=UTC:20240622T230000
DTSTAMP:20260423T194548
CREATED:20240517T101917Z
LAST-MODIFIED:20240517T101956Z
UID:2211-1719090000-1719097200@artisancatering.gg
SUMMARY:Live Music - Stuart Darkin
DESCRIPTION:
URL:https://artisancatering.gg/event/live-music-stuart-darkin/
END:VEVENT
BEGIN:VEVENT
DTSTART;TZID=UTC:20240608T210000
DTEND;TZID=UTC:20240608T230000
DTSTAMP:20260423T194548
CREATED:20240517T101535Z
LAST-MODIFIED:20240517T102037Z
UID:2208-1717880400-1717887600@artisancatering.gg
SUMMARY:Live Music - Chris "Twiggy" Martin
DESCRIPTION:
URL:https://artisancatering.gg/event/live-music-chris-twiggy-martin/
LOCATION:The Venture Inn
END:VEVENT
BEGIN:VEVENT
DTSTART;TZID=UTC:20240525T210000
DTEND;TZID=UTC:20240525T210000
DTSTAMP:20260423T194548
CREATED:20240517T095002Z
LAST-MODIFIED:20240517T101401Z
UID:2203-1716670800-1716670800@artisancatering.gg
SUMMARY:Live Music - Loz & The Lightyears
DESCRIPTION:
URL:https://artisancatering.gg/event/live-music-loz-the-lightyears/
END:VEVENT
END:VCALENDAR