BEGIN:VCALENDAR
VERSION:2.0
PRODID:-//Artisan Catering - ECPv6.9.0//NONSGML v1.0//EN
CALSCALE:GREGORIAN
METHOD:PUBLISH
X-WR-CALNAME:Artisan Catering
X-ORIGINAL-URL:https://artisancatering.gg
X-WR-CALDESC:Events for Artisan Catering
REFRESH-INTERVAL;VALUE=DURATION:PT1H
X-Robots-Tag:noindex
X-PUBLISHED-TTL:PT1H
BEGIN:VTIMEZONE
TZID:UTC
BEGIN:STANDARD
TZOFFSETFROM:+0000
TZOFFSETTO:+0000
TZNAME:UTC
DTSTART:20240101T000000
END:STANDARD
END:VTIMEZONE
BEGIN:VEVENT
DTSTART;TZID=UTC:20241221T210000
DTEND;TZID=UTC:20241221T230000
DTSTAMP:20260423T180811
CREATED:20240517T103601Z
LAST-MODIFIED:20240517T103601Z
UID:2232-1734814800-1734822000@artisancatering.gg
SUMMARY:Live Music - Josh Brown
DESCRIPTION:
URL:https://artisancatering.gg/event/live-music-josh-brown-2/
END:VEVENT
BEGIN:VEVENT
DTSTART;TZID=UTC:20241221T163000
DTEND;TZID=UTC:20241221T183000
DTSTAMP:20260423T180811
CREATED:20241102T085719Z
LAST-MODIFIED:20241102T085719Z
UID:2377-1734798600-1734805800@artisancatering.gg
SUMMARY:Live Music - Josh Brown
DESCRIPTION:
URL:https://artisancatering.gg/event/live-music-josh-brown-4/
END:VEVENT
BEGIN:VEVENT
DTSTART;TZID=UTC:20241214T200000
DTEND;TZID=UTC:20241214T230000
DTSTAMP:20260423T180811
CREATED:20241102T085634Z
LAST-MODIFIED:20241102T085634Z
UID:2375-1734206400-1734217200@artisancatering.gg
SUMMARY:80's Party With Karaoke
DESCRIPTION:
URL:https://artisancatering.gg/event/80s-party-with-karaoke/
END:VEVENT
BEGIN:VEVENT
DTSTART;TZID=UTC:20241123T193000
DTEND;TZID=UTC:20241123T230000
DTSTAMP:20260423T180811
CREATED:20241102T085538Z
LAST-MODIFIED:20241102T085547Z
UID:2373-1732390200-1732402800@artisancatering.gg
SUMMARY:Live Music - Faolon
DESCRIPTION:
URL:https://artisancatering.gg/event/live-music-faolon/
END:VEVENT
BEGIN:VEVENT
DTSTART;TZID=UTC:20241116T200000
DTEND;TZID=UTC:20241116T230000
DTSTAMP:20260423T180811
CREATED:20241102T085437Z
LAST-MODIFIED:20241102T085454Z
UID:2371-1731787200-1731798000@artisancatering.gg
SUMMARY:Country Night
DESCRIPTION:
URL:https://artisancatering.gg/event/country-night/
END:VEVENT
BEGIN:VEVENT
DTSTART;TZID=UTC:20241109T210000
DTEND;TZID=UTC:20241109T230000
DTSTAMP:20260423T180811
CREATED:20240517T103511Z
LAST-MODIFIED:20240517T103511Z
UID:2230-1731186000-1731193200@artisancatering.gg
SUMMARY:Live Music - Josh Brown
DESCRIPTION:
URL:https://artisancatering.gg/event/live-music-josh-brown/
END:VEVENT
BEGIN:VEVENT
DTSTART;TZID=UTC:20241102T200000
DTEND;TZID=UTC:20241102T230000
DTSTAMP:20260423T180811
CREATED:20241102T085843Z
LAST-MODIFIED:20241102T085843Z
UID:2381-1730577600-1730588400@artisancatering.gg
SUMMARY:Live Music - Loz & The Lightyears
DESCRIPTION:
URL:https://artisancatering.gg/event/live-music-loz-the-lightyears-3/
END:VEVENT
BEGIN:VEVENT
DTSTART;TZID=UTC:20241102T183000
DTEND;TZID=UTC:20241102T190000
DTSTAMP:20260423T180811
CREATED:20241102T085809Z
LAST-MODIFIED:20241102T085809Z
UID:2379-1730572200-1730574000@artisancatering.gg
SUMMARY:Christmas Meat Draw
DESCRIPTION:
URL:https://artisancatering.gg/event/christmas-meat-draw/
END:VEVENT
BEGIN:VEVENT
DTSTART;TZID=UTC:20241029T200000
DTEND;TZID=UTC:20241029T230000
DTSTAMP:20260423T180811
CREATED:20241029T134555Z
LAST-MODIFIED:20241029T134555Z
UID:2366-1730232000-1730242800@artisancatering.gg
SUMMARY:Live Music - Loz & The Lightyears
DESCRIPTION:
URL:https://artisancatering.gg/event/live-music-loz-the-lightyears-2/
END:VEVENT
BEGIN:VEVENT
DTSTART;TZID=UTC:20241029T160000
DTEND;TZID=UTC:20241029T180000
DTSTAMP:20260423T180811
CREATED:20241029T134511Z
LAST-MODIFIED:20241029T134511Z
UID:2364-1730217600-1730224800@artisancatering.gg
SUMMARY:Live Music - Josh Brown
DESCRIPTION:
URL:https://artisancatering.gg/event/live-music-josh-brown-3/
END:VEVENT
BEGIN:VEVENT
DTSTART;TZID=UTC:20241026T210000
DTEND;TZID=UTC:20241026T230000
DTSTAMP:20260423T180811
CREATED:20240517T103335Z
LAST-MODIFIED:20240517T103357Z
UID:2228-1729976400-1729983600@artisancatering.gg
SUMMARY:Live Music - The Vinyls
DESCRIPTION:
URL:https://artisancatering.gg/event/live-music-the-vinyls/
END:VEVENT
BEGIN:VEVENT
DTSTART;TZID=UTC:20241019T210000
DTEND;TZID=UTC:20241019T230000
DTSTAMP:20260423T180811
CREATED:20240517T103228Z
LAST-MODIFIED:20240517T103228Z
UID:2226-1729371600-1729378800@artisancatering.gg
SUMMARY:Live Music - Neon Fire Acoustic
DESCRIPTION:
URL:https://artisancatering.gg/event/live-music-neon-fire-acoustic/
END:VEVENT
BEGIN:VEVENT
DTSTART;TZID=UTC:20240914T210000
DTEND;TZID=UTC:20240914T230000
DTSTAMP:20260423T180811
CREATED:20240517T103004Z
LAST-MODIFIED:20240517T103004Z
UID:2222-1726347600-1726354800@artisancatering.gg
SUMMARY:Live Music - Tantale
DESCRIPTION:
URL:https://artisancatering.gg/event/live-music-tantale/
END:VEVENT
BEGIN:VEVENT
DTSTART;TZID=UTC:20240816T210000
DTEND;TZID=UTC:20240816T230000
DTSTAMP:20260423T180811
CREATED:20240517T102644Z
LAST-MODIFIED:20240517T102644Z
UID:2220-1723842000-1723849200@artisancatering.gg
SUMMARY:Live Music - Callum & Nick (Of The Nightmares)
DESCRIPTION:
URL:https://artisancatering.gg/event/live-music-callum-nick-of-the-nightmares/
END:VEVENT
BEGIN:VEVENT
DTSTART;TZID=UTC:20240803T210000
DTEND;TZID=UTC:20240803T230000
DTSTAMP:20260423T180811
CREATED:20240517T102549Z
LAST-MODIFIED:20240517T102549Z
UID:2218-1722718800-1722726000@artisancatering.gg
SUMMARY:Live Music - Andy Newman
DESCRIPTION:
URL:https://artisancatering.gg/event/live-music-andy-newman/
END:VEVENT
BEGIN:VEVENT
DTSTART;TZID=UTC:20240720T210000
DTEND;TZID=UTC:20240720T230000
DTSTAMP:20260423T180811
CREATED:20240517T102441Z
LAST-MODIFIED:20240517T102441Z
UID:2216-1721509200-1721516400@artisancatering.gg
SUMMARY:Live Music - Kiya Ashton
DESCRIPTION:
URL:https://artisancatering.gg/event/live-music-kiya-ashton/
END:VEVENT
BEGIN:VEVENT
DTSTART;TZID=UTC:20240709T210000
DTEND;TZID=UTC:20240709T230000
DTSTAMP:20260423T180811
CREATED:20240709T113202Z
LAST-MODIFIED:20240709T113202Z
UID:2281-1720558800-1720566000@artisancatering.gg
SUMMARY:Live Music - Faolân Gill
DESCRIPTION:
URL:https://artisancatering.gg/event/live-music-faolan-gill-2/
LOCATION:The Venture Inn
END:VEVENT
BEGIN:VEVENT
DTSTART;TZID=UTC:20240709T210000
DTEND;TZID=UTC:20240709T230000
DTSTAMP:20260423T180811
CREATED:20240709T113106Z
LAST-MODIFIED:20240709T113106Z
UID:2279-1720558800-1720566000@artisancatering.gg
SUMMARY:Live Music - Faolân Gill
DESCRIPTION:
URL:https://artisancatering.gg/event/live-music-faolan-gill/
LOCATION:The Venture Inn
END:VEVENT
BEGIN:VEVENT
DTSTART;TZID=UTC:20240706T210000
DTEND;TZID=UTC:20240706T230000
DTSTAMP:20260423T180811
CREATED:20240517T102154Z
LAST-MODIFIED:20240517T102154Z
UID:2214-1720299600-1720306800@artisancatering.gg
SUMMARY:Live Music - The Darts
DESCRIPTION:
URL:https://artisancatering.gg/event/live-music-the-darts/
END:VEVENT
BEGIN:VEVENT
DTSTART;TZID=UTC:20240622T210000
DTEND;TZID=UTC:20240622T230000
DTSTAMP:20260423T180811
CREATED:20240517T101917Z
LAST-MODIFIED:20240517T101956Z
UID:2211-1719090000-1719097200@artisancatering.gg
SUMMARY:Live Music - Stuart Darkin
DESCRIPTION:
URL:https://artisancatering.gg/event/live-music-stuart-darkin/
END:VEVENT
BEGIN:VEVENT
DTSTART;TZID=UTC:20240608T210000
DTEND;TZID=UTC:20240608T230000
DTSTAMP:20260423T180811
CREATED:20240517T101535Z
LAST-MODIFIED:20240517T102037Z
UID:2208-1717880400-1717887600@artisancatering.gg
SUMMARY:Live Music - Chris "Twiggy" Martin
DESCRIPTION:
URL:https://artisancatering.gg/event/live-music-chris-twiggy-martin/
LOCATION:The Venture Inn
END:VEVENT
BEGIN:VEVENT
DTSTART;TZID=UTC:20240525T210000
DTEND;TZID=UTC:20240525T210000
DTSTAMP:20260423T180811
CREATED:20240517T095002Z
LAST-MODIFIED:20240517T101401Z
UID:2203-1716670800-1716670800@artisancatering.gg
SUMMARY:Live Music - Loz & The Lightyears
DESCRIPTION:
URL:https://artisancatering.gg/event/live-music-loz-the-lightyears/
END:VEVENT
END:VCALENDAR